BEGIN:VCALENDAR
VERSION:2.0
PRODID:-//Legal Tender Saloon &amp; Eating House - ECPv6.15.20//NONSGML v1.0//EN
CALSCALE:GREGORIAN
METHOD:PUBLISH
X-WR-CALNAME:Legal Tender Saloon &amp; Eating House
X-ORIGINAL-URL:https://legaltenderlamy.com
X-WR-CALDESC:Events for Legal Tender Saloon &amp; Eating House
REFRESH-INTERVAL;VALUE=DURATION:PT1H
X-Robots-Tag:noindex
X-PUBLISHED-TTL:PT1H
BEGIN:VTIMEZONE
TZID:America/Phoenix
BEGIN:STANDARD
TZOFFSETFROM:-0700
TZOFFSETTO:-0700
TZNAME:MST
DTSTART:20230101T000000
END:STANDARD
END:VTIMEZONE
BEGIN:VEVENT
DTSTART;TZID=America/Phoenix:20240421T130000
DTEND;TZID=America/Phoenix:20240421T190000
DTSTAMP:20260422T023926
CREATED:20240315T124602Z
LAST-MODIFIED:20240315T124602Z
UID:1521-1713704400-1713726000@legaltenderlamy.com
SUMMARY:Angels Dine Out 25th Anniversary
DESCRIPTION:Celebrate the joy of food and eating together by supporting our signature benefit Angels Dine Out. \nVisit the Kitchen Angels website.
URL:https://legaltenderlamy.com/event/angels-dine-out-25th-anniversary/
LOCATION:Legal Tender Saloon & Eating House\, 151 Old Lamy Trail\, Lamy\, NM\, 87540\, United States
END:VEVENT
END:VCALENDAR